BEGIN:VCALENDAR
VERSION:2.0
PRODID:-//wp-events-plugin.com//7.2.2.1//EN
TZID:Europe/Berlin
X-WR-TIMEZONE:Europe/Berlin
BEGIN:VEVENT
UID:63@skiclub-emmering.de
DTSTART;TZID=Europe/Berlin:20260430T190000
DTEND;TZID=Europe/Berlin:20260430T213000
DTSTAMP:20260219T173719Z
URL:https://www.skiclub-emmering.de/?event=mitgliederversammlung-im-buerge
 rhaus-emmering
SUMMARY:Mitgliederversammlung im Bürgerhaus Emmering
DESCRIPTION:Einladung zur ordentlichen Mitgliederversammlung des Ski-Club 
 Emmering e.V. gemäß §11 der Satzung\n\nam Donnerstag\, 30.04.2026 um 19
 :00 Uhr im Bürgerhaus Emmering\n\nLauscherwörth 5\, 82275 Emmering\n\nAl
 le Mitglieder sind herzlich dazu eingeladen. Die Tagesordnung wird per E-M
 ail zugesandt.\n\nÜber ein zahlreiches Erscheinen würden wir uns sehr fr
 euen.\n\n&nbsp\;\n\nEuer Ski-Club Emmering Team
CATEGORIES:Stammtisch
LOCATION:Bürgerhaus Emmering\, Lauscherwörth 5\, Emmering\, 82275\, Deuts
 chland
X-APPLE-STRUCTURED-LOCATION;VALUE=URI;X-ADDRESS=Lauscherwörth 5\, Emmering
 \, 82275\, Deutschland;X-APPLE-RADIUS=100;X-TITLE=Bürgerhaus Emmering:geo
 :0,0
END:VEVENT
BEGIN:VTIMEZONE
TZID:Europe/Berlin
X-LIC-LOCATION:Europe/Berlin
BEGIN:DAYLIGHT
DTSTART:20260329T030000
TZOFFSETFROM:+0100
TZOFFSETTO:+0200
TZNAME:CEST
END:DAYLIGHT
END:VTIMEZONE
END:VCALENDAR